BEGIN:VCALENDAR
PRODID:-//eluceo/ical//2.0/EN
VERSION:2.0
CALSCALE:GREGORIAN
BEGIN:VEVENT
UID:ebcf2be59973a7f5314f7c884e89a7bf
DTSTAMP:20260423T044950Z
SUMMARY:Mon Sang pour les Autres
DESCRIPTION:
URL:https://tonnaycharenteestuaire.rotary-1690.org/fr/agenda/show/30256
DTSTART;TZID=Europe/Zurich:20221003T090000
DTEND;TZID=Europe/Zurich:20221004T180000
LOCATION:Complexe municipal Tonnay Charente
CATEGORIES:Rotary
END:VEVENT
BEGIN:VTIMEZONE
TZID:Europe/Zurich
BEGIN:DAYLIGHT
DTSTART:20221003T090000
TZNAME:CEST
TZOFFSETTO:+0200
TZOFFSETFROM:+0200
END:DAYLIGHT
END:VTIMEZONE
END:VCALENDAR
