BEGIN:VCALENDAR
PRODID:-//eluceo/ical//2.0/EN
VERSION:2.0
CALSCALE:GREGORIAN
BEGIN:VEVENT
UID:e42602823a04673a3373f0c9bb86c9c1
DTSTAMP:20260423T061657Z
SUMMARY:Départ BAB el RAID
DESCRIPTION:
URL:https://tonnaycharenteestuaire.rotary-1690.org/fr/agenda/show/31832
DTSTART;TZID=Europe/Zurich:20221016T100000
DTEND;TZID=Europe/Zurich:20221016T110000
LOCATION:Parvis aquarium de La Rochelle
CATEGORIES:Rotary
END:VEVENT
BEGIN:VTIMEZONE
TZID:Europe/Zurich
BEGIN:DAYLIGHT
DTSTART:20221016T100000
TZNAME:CEST
TZOFFSETTO:+0200
TZOFFSETFROM:+0200
END:DAYLIGHT
END:VTIMEZONE
END:VCALENDAR
