BEGIN:VCALENDAR
PRODID:-//eluceo/ical//2.0/EN
VERSION:2.0
CALSCALE:GREGORIAN
BEGIN:VEVENT
UID:06b3929cb460c4057efc8e5b6ae9e8de
DTSTAMP:20260423T074247Z
SUMMARY:Conférence "Se connaitre soi même comme base de l'éthique journa
 listique"
DESCRIPTION:Conférencier(s): Jean Luc Martin-Lagardette\, journaliste et e
 ssayiste
URL:https://tonnaycharenteestuaire.rotary-1690.org/fr/agenda/show/32641
DTSTART;TZID=Europe/Zurich:20221117T180000
DTEND;TZID=Europe/Zurich:20221117T193000
LOCATION:Amphi Jean Divignaud\, 1 parvis Fernand Braudel\, 17000 La Rochell
 e
CATEGORIES:Rotary
END:VEVENT
BEGIN:VTIMEZONE
TZID:Europe/Zurich
BEGIN:STANDARD
DTSTART:20221117T180000
TZNAME:CET
TZOFFSETTO:+0100
TZOFFSETFROM:+0100
END:STANDARD
END:VTIMEZONE
END:VCALENDAR
